BEGIN:VCALENDAR
VERSION:2.0
PRODID:Events Booking
BEGIN:VEVENT
UID:69e53519ab91b
SUMMARY:Curso de retiro Numerarias Auxiliares
DESCRIPTION:
DTSTART:20240910T060000Z
DTEND:20240913T060000Z
DTSTAMP:20260419T200337Z
ORGANIZER;CN=Atencion:MAILTO:atencion@sinriendasysinestribos.com.mx
END:VEVENT
END:VCALENDAR