BEGIN:VCALENDAR
VERSION:2.0
PRODID:Events Booking
BEGIN:VEVENT
UID:69e51a069957e
SUMMARY:Curso anual Numerarias Auxiliares
DESCRIPTION:
DTSTART:20240917T060000Z
DTEND:20240920T060000Z
DTSTAMP:20260419T180806Z
ORGANIZER;CN=Atencion:MAILTO:atencion@sinriendasysinestribos.com.mx
END:VEVENT
END:VCALENDAR