BEGIN:VCALENDAR
VERSION:2.0
PRODID:Events Booking
BEGIN:VEVENT
UID:69e535297a5e1
SUMMARY:Convivencia Padres de Familia
DESCRIPTION:
DTSTART:20241011T060000Z
DTEND:20241014T060000Z
DTSTAMP:20260419T200353Z
ORGANIZER;CN=Atencion:MAILTO:atencion@sinriendasysinestribos.com.mx
END:VEVENT
END:VCALENDAR