BEGIN:VCALENDAR
VERSION:2.0
PRODID:Events Booking
BEGIN:VEVENT
UID:69e519de1f6d8
SUMMARY:Campamento Club Saxum
DESCRIPTION:
DTSTART:20240802T060000Z
DTEND:20240807T060000Z
DTSTAMP:20260419T180726Z
ORGANIZER;CN=Atencion:MAILTO:atencion@sinriendasysinestribos.com.mx
END:VEVENT
END:VCALENDAR