BEGIN:VCALENDAR
VERSION:2.0
PRODID:Events Booking
BEGIN:VEVENT
UID:69e78e48c2dd1
SUMMARY:Curso de retiro Supernumerarias jóvenes
DESCRIPTION:
DTSTART:20241114T060000Z
DTEND:20241117T060000Z
DTSTAMP:20260421T144840Z
ORGANIZER;CN=Atencion:MAILTO:atencion@sinriendasysinestribos.com.mx
END:VEVENT
END:VCALENDAR