BEGIN:VCALENDAR
VERSION:2.0
PRODID:Events Booking
BEGIN:VEVENT
UID:69e765e9b10ca
SUMMARY:Curso de Retiro Santa Fe
DESCRIPTION:
DTSTART:20241101T060000Z
DTEND:20241106T060000Z
DTSTAMP:20260421T115625Z
ORGANIZER;CN=Atencion:MAILTO:atencion@sinriendasysinestribos.com.mx
END:VEVENT
END:VCALENDAR