BEGIN:VCALENDAR
VERSION:2.0
PRODID:Events Booking
BEGIN:VEVENT
UID:69e7654a60fae
SUMMARY:Curso de retiro RUP
DESCRIPTION:
DTSTART:20241004T060000Z
DTEND:20241009T060000Z
DTSTAMP:20260421T115346Z
ORGANIZER;CN=Atencion:MAILTO:atencion@sinriendasysinestribos.com.mx
END:VEVENT
END:VCALENDAR