BEGIN:VCALENDAR
VERSION:2.0
PRODID:Events Booking
BEGIN:VEVENT
UID:69e7914d2692d
SUMMARY:Convivencia Supernumerarias (Toshi)
DESCRIPTION:
DTSTART:20241206T060000Z
DTEND:20241211T060000Z
DTSTAMP:20260421T150133Z
ORGANIZER;CN=Atencion:MAILTO:atencion@sinriendasysinestribos.com.mx
END:VEVENT
END:VCALENDAR