BEGIN:VCALENDAR
VERSION:2.0
PRODID:Events Booking
BEGIN:VEVENT
UID:69e79083b7192
SUMMARY:Convivencia personal docente y administrativo
DESCRIPTION:
DTSTART:20241025T060000Z
DTEND:20241028T060000Z
DTSTAMP:20260421T145811Z
ORGANIZER;CN=Atencion:MAILTO:atencion@sinriendasysinestribos.com.mx
END:VEVENT
END:VCALENDAR