BEGIN:VCALENDAR
VERSION:2.0
PRODID:Events Booking
BEGIN:VEVENT
UID:69e791cd1f8bf
SUMMARY:Convivencia Maestras Piccolo Giardino
DESCRIPTION:
DTSTART:20241128T060000Z
DTEND:20241225T060000Z
DTSTAMP:20260421T150341Z
ORGANIZER;CN=Atencion:MAILTO:atencion@sinriendasysinestribos.com.mx
END:VEVENT
END:VCALENDAR