BEGIN:VCALENDAR
VERSION:2.0
PRODID:Events Booking
BEGIN:VEVENT
UID:69e7668f3a2e9
SUMMARY:Convivencia ICAMI Profesoras y Personal
DESCRIPTION:
DTSTART:20240830T060000Z
DTEND:20240906T060000Z
DTSTAMP:20260421T115911Z
ORGANIZER;CN=Atencion:MAILTO:atencion@sinriendasysinestribos.com.mx
END:VEVENT
END:VCALENDAR