BEGIN:VCALENDAR
VERSION:2.0
PRODID:Events Booking
BEGIN:VEVENT
UID:69e793e33c69c
SUMMARY:Conviencia alumnos
DESCRIPTION:
DTSTART:20241111T060000Z
DTEND:20241114T060000Z
DTSTAMP:20260421T151235Z
ORGANIZER;CN=Atencion:MAILTO:atencion@sinriendasysinestribos.com.mx
END:VEVENT
END:VCALENDAR