BEGIN:VCALENDAR
VERSION:2.0
PRODID:Events Booking
BEGIN:VEVENT
UID:69e73f39e19ac
SUMMARY:Curso anual Numerarias Auxiliares
DESCRIPTION:
DTSTART:20241122T060000Z
DTEND:20241125T060000Z
DTSTAMP:20260421T091121Z
ORGANIZER;CN=Atencion:MAILTO:atencion@sinriendasysinestribos.com.mx
END:VEVENT
END:VCALENDAR