BEGIN:VCALENDAR
VERSION:2.0
PRODID:Events Booking
BEGIN:VEVENT
UID:69e73aaa5e8a6
SUMMARY:Curso anual Numerarias
DESCRIPTION:
DTSTART:20240722T060000Z
DTEND:20240725T060000Z
DTSTAMP:20260421T085154Z
ORGANIZER;CN=Atencion:MAILTO:atencion@sinriendasysinestribos.com.mx
END:VEVENT
END:VCALENDAR