BEGIN:VCALENDAR
VERSION:2.0
PRODID:Events Booking
BEGIN:VEVENT
UID:69e73f6db30da
SUMMARY:Convivencia
DESCRIPTION:
DTSTART:20240830T060000Z
DTEND:20240904T060000Z
DTSTAMP:20260421T091213Z
ORGANIZER;CN=Atencion:MAILTO:atencion@sinriendasysinestribos.com.mx
END:VEVENT
END:VCALENDAR