BEGIN:VCALENDAR
VERSION:2.0
PRODID:Events Booking
BEGIN:VEVENT
UID:69e52af0e324a
SUMMARY:Posada Trabajadores Montefalco
DESCRIPTION:
DTSTART:20241206T060000Z
DTEND:20241211T060000Z
DTSTAMP:20260419T192016Z
ORGANIZER;CN=Atencion:MAILTO:atencion@sinriendasysinestribos.com.mx
END:VEVENT
END:VCALENDAR