BEGIN:VCALENDAR
VERSION:2.0
PRODID:Events Booking
BEGIN:VEVENT
UID:69e52b925f48a
SUMMARY:Convivencia especial de vocaciones recientes
DESCRIPTION:
DTSTART:20240705T060000Z
DTEND:20240710T060000Z
DTSTAMP:20260419T192258Z
ORGANIZER;CN=Atencion:MAILTO:atencion@sinriendasysinestribos.com.mx
END:VEVENT
END:VCALENDAR