BEGIN:VCALENDAR
VERSION:2.0
PRODID:Events Booking
BEGIN:VEVENT
UID:69e511d2d3f4a
SUMMARY:Convivencia Agregadas
DESCRIPTION:
DTSTART:20240705T060000Z
DTEND:20240710T060000Z
DTSTAMP:20260419T173306Z
ORGANIZER;CN=Atencion:MAILTO:atencion@sinriendasysinestribos.com.mx
END:VEVENT
END:VCALENDAR