BEGIN:VCALENDAR
VERSION:2.0
PRODID:Events Booking
BEGIN:VEVENT
UID:69e52b8667a5e
SUMMARY:Conviencia profesores Prepa UP
DESCRIPTION:
DTSTART:20240731T060000Z
DTEND:20240805T060000Z
DTSTAMP:20260419T192246Z
ORGANIZER;CN=Atencion:MAILTO:atencion@sinriendasysinestribos.com.mx
END:VEVENT
END:VCALENDAR